BEGIN:VCALENDAR
VERSION:2.0
PRODID:-//Didier Gasser - ECPv6.15.20//NONSGML v1.0//EN
CALSCALE:GREGORIAN
METHOD:PUBLISH
X-ORIGINAL-URL:https://gasserdidier.ch
X-WR-CALDESC:Veranstaltungen für Didier Gasser
REFRESH-INTERVAL;VALUE=DURATION:PT1H
X-Robots-Tag:noindex
X-PUBLISHED-TTL:PT1H
BEGIN:VTIMEZONE
TZID:Europe/Zurich
BEGIN:DAYLIGHT
TZOFFSETFROM:+0100
TZOFFSETTO:+0200
TZNAME:CEST
DTSTART:20240331T010000
END:DAYLIGHT
BEGIN:STANDARD
TZOFFSETFROM:+0200
TZOFFSETTO:+0100
TZNAME:CET
DTSTART:20241027T010000
END:STANDARD
BEGIN:DAYLIGHT
TZOFFSETFROM:+0100
TZOFFSETTO:+0200
TZNAME:CEST
DTSTART:20250330T010000
END:DAYLIGHT
BEGIN:STANDARD
TZOFFSETFROM:+0200
TZOFFSETTO:+0100
TZNAME:CET
DTSTART:20251026T010000
END:STANDARD
BEGIN:DAYLIGHT
TZOFFSETFROM:+0100
TZOFFSETTO:+0200
TZNAME:CEST
DTSTART:20260329T010000
END:DAYLIGHT
BEGIN:STANDARD
TZOFFSETFROM:+0200
TZOFFSETTO:+0100
TZNAME:CET
DTSTART:20261025T010000
END:STANDARD
END:VTIMEZONE
BEGIN:VEVENT
DTSTART;TZID=Europe/Zurich:20251102T180000
DTEND;TZID=Europe/Zurich:20251102T210000
DTSTAMP:20260422T182323
CREATED:20250718T221824Z
LAST-MODIFIED:20250718T221827Z
UID:2540-1762106400-1762117200@gasserdidier.ch
SUMMARY:Opernhaus Zürich | LA FORZA DEL DESTINO
DESCRIPTION:
URL:https://gasserdidier.ch/event/opernhaus-zuerich-la-forza-del-destino/
END:VEVENT
BEGIN:VEVENT
DTSTART;TZID=Europe/Zurich:20251111T190000
DTEND;TZID=Europe/Zurich:20251111T220000
DTSTAMP:20260422T182323
CREATED:20250718T221930Z
LAST-MODIFIED:20250718T221934Z
UID:2542-1762887600-1762898400@gasserdidier.ch
SUMMARY:Opernhaus Zürich | MACBETH
DESCRIPTION:
URL:https://gasserdidier.ch/event/opernhaus-zuerich-macbeth/
END:VEVENT
BEGIN:VEVENT
DTSTART;TZID=Europe/Zurich:20251114T193000
DTEND;TZID=Europe/Zurich:20251114T223000
DTSTAMP:20260422T182323
CREATED:20250718T222034Z
LAST-MODIFIED:20250718T222038Z
UID:2544-1763148600-1763159400@gasserdidier.ch
SUMMARY:Opernhaus Zürich | MACBETH
DESCRIPTION:
URL:https://gasserdidier.ch/event/opernhaus-zuerich-macbeth-2/
END:VEVENT
BEGIN:VEVENT
DTSTART;TZID=Europe/Zurich:20251115T190000
DTEND;TZID=Europe/Zurich:20251115T220000
DTSTAMP:20260422T182323
CREATED:20250718T222127Z
LAST-MODIFIED:20250718T222132Z
UID:2546-1763233200-1763244000@gasserdidier.ch
SUMMARY:Opernhaus Zürich | LA FORZA DEL DESTINO
DESCRIPTION:
URL:https://gasserdidier.ch/event/opernhaus-zuerich-la-forza-del-destino-2/
END:VEVENT
BEGIN:VEVENT
DTSTART;TZID=Europe/Zurich:20251118T190000
DTEND;TZID=Europe/Zurich:20251118T220000
DTSTAMP:20260422T182323
CREATED:20250718T222227Z
LAST-MODIFIED:20250718T222232Z
UID:2548-1763492400-1763503200@gasserdidier.ch
SUMMARY:Opernhaus Zürich | LA FORZA DEL DESTINO
DESCRIPTION:
URL:https://gasserdidier.ch/event/opernhaus-zuerich-la-forza-del-destino-3/
END:VEVENT
BEGIN:VEVENT
DTSTART;TZID=Europe/Zurich:20251119T190000
DTEND;TZID=Europe/Zurich:20251119T220000
DTSTAMP:20260422T182323
CREATED:20250718T222312Z
LAST-MODIFIED:20250718T222315Z
UID:2550-1763578800-1763589600@gasserdidier.ch
SUMMARY:Opernhaus Zürich | MACBETH
DESCRIPTION:
URL:https://gasserdidier.ch/event/opernhaus-zuerich-macbeth-3/
END:VEVENT
BEGIN:VEVENT
DTSTART;TZID=Europe/Zurich:20251121T190000
DTEND;TZID=Europe/Zurich:20251121T220000
DTSTAMP:20260422T182323
CREATED:20250718T222412Z
LAST-MODIFIED:20250718T222418Z
UID:2552-1763751600-1763762400@gasserdidier.ch
SUMMARY:Opernhaus Zürich | LA FORZA DEL DESTINO
DESCRIPTION:
URL:https://gasserdidier.ch/event/opernhaus-zuerich-la-forza-del-destino-4/
END:VEVENT
BEGIN:VEVENT
DTSTART;TZID=Europe/Zurich:20251122T193000
DTEND;TZID=Europe/Zurich:20251122T220000
DTSTAMP:20260422T182323
CREATED:20250718T222520Z
LAST-MODIFIED:20250718T222524Z
UID:2554-1763839800-1763848800@gasserdidier.ch
SUMMARY:Opernhaus Zürich | MACBETH
DESCRIPTION:
URL:https://gasserdidier.ch/event/opernhaus-zuerich-macbeth-4/
END:VEVENT
BEGIN:VEVENT
DTSTART;TZID=Europe/Zurich:20251126T190000
DTEND;TZID=Europe/Zurich:20251126T220000
DTSTAMP:20260422T182323
CREATED:20250718T222630Z
LAST-MODIFIED:20250718T222635Z
UID:2556-1764183600-1764194400@gasserdidier.ch
SUMMARY:Opernhaus Zürich | LA FORZA DEL DESTINO
DESCRIPTION:
URL:https://gasserdidier.ch/event/opernhaus-zuerich-la-forza-del-destino-5/
END:VEVENT
BEGIN:VEVENT
DTSTART;TZID=Europe/Zurich:20251129T153000
DTEND;TZID=Europe/Zurich:20251129T170000
DTSTAMP:20260422T182323
CREATED:20250718T222813Z
LAST-MODIFIED:20250718T222818Z
UID:2558-1764430200-1764435600@gasserdidier.ch
SUMMARY:Opernhaus Zürich | Musikgeschichten "Ein Sommernachtstraum"
DESCRIPTION:
URL:https://gasserdidier.ch/event/opernhaus-zuerich-musikgeschichten-ein-sommernachtstraum/
END:VEVENT
BEGIN:VEVENT
DTSTART;TZID=Europe/Zurich:20251129T190000
DTEND;TZID=Europe/Zurich:20251129T220000
DTSTAMP:20260422T182323
CREATED:20250718T222902Z
LAST-MODIFIED:20250718T222905Z
UID:2560-1764442800-1764453600@gasserdidier.ch
SUMMARY:Opernhaus Zürich |  LA FORZA DEL DESTINO
DESCRIPTION:
URL:https://gasserdidier.ch/event/opernhaus-zuerich-la-forza-del-destino-6/
END:VEVENT
BEGIN:VEVENT
DTSTART;TZID=Europe/Zurich:20251130T140000
DTEND;TZID=Europe/Zurich:20251130T153000
DTSTAMP:20260422T182323
CREATED:20250718T223010Z
LAST-MODIFIED:20250718T223014Z
UID:2562-1764511200-1764516600@gasserdidier.ch
SUMMARY:Opernhaus Zürich | Musikgeschichten "Ein Sommernachtstraum"
DESCRIPTION:
URL:https://gasserdidier.ch/event/opernhaus-zuerich-musikgeschichten-ein-sommernachtstraum-2/
END:VEVENT
BEGIN:VEVENT
DTSTART;TZID=Europe/Zurich:20251130T193000
DTEND;TZID=Europe/Zurich:20251130T220000
DTSTAMP:20260422T182323
CREATED:20250718T223114Z
LAST-MODIFIED:20250718T223120Z
UID:2564-1764531000-1764540000@gasserdidier.ch
SUMMARY:Opernhaus Zürich | MACBETH
DESCRIPTION:
URL:https://gasserdidier.ch/event/opernhaus-zuerich-macbeth-5/
END:VEVENT
END:VCALENDAR