BEGIN:VCALENDAR
VERSION:2.0
PRODID:-//Didier Gasser - ECPv6.15.20//NONSGML v1.0//EN
CALSCALE:GREGORIAN
METHOD:PUBLISH
X-ORIGINAL-URL:https://gasserdidier.ch
X-WR-CALDESC:Veranstaltungen für Didier Gasser
REFRESH-INTERVAL;VALUE=DURATION:PT1H
X-Robots-Tag:noindex
X-PUBLISHED-TTL:PT1H
BEGIN:VTIMEZONE
TZID:Europe/Zurich
BEGIN:DAYLIGHT
TZOFFSETFROM:+0100
TZOFFSETTO:+0200
TZNAME:CEST
DTSTART:20240331T010000
END:DAYLIGHT
BEGIN:STANDARD
TZOFFSETFROM:+0200
TZOFFSETTO:+0100
TZNAME:CET
DTSTART:20241027T010000
END:STANDARD
BEGIN:DAYLIGHT
TZOFFSETFROM:+0100
TZOFFSETTO:+0200
TZNAME:CEST
DTSTART:20250330T010000
END:DAYLIGHT
BEGIN:STANDARD
TZOFFSETFROM:+0200
TZOFFSETTO:+0100
TZNAME:CET
DTSTART:20251026T010000
END:STANDARD
BEGIN:DAYLIGHT
TZOFFSETFROM:+0100
TZOFFSETTO:+0200
TZNAME:CEST
DTSTART:20260329T010000
END:DAYLIGHT
BEGIN:STANDARD
TZOFFSETFROM:+0200
TZOFFSETTO:+0100
TZNAME:CET
DTSTART:20261025T010000
END:STANDARD
END:VTIMEZONE
BEGIN:VEVENT
DTSTART;TZID=Europe/Zurich:20250801T110000
DTEND;TZID=Europe/Zurich:20250801T123000
DTSTAMP:20260422T224639
CREATED:20250602T201529Z
LAST-MODIFIED:20250602T201627Z
UID:2485-1754046000-1754051400@gasserdidier.ch
SUMMARY:Swiss National Orchestra | VIVAT HELVETIA
DESCRIPTION:Casino Bern
URL:https://gasserdidier.ch/event/swiss-national-orchestra-vivat-helvetia/
ATTACH;FMTTYPE=image/jpeg:https://gasserdidier.ch/wp-content/uploads/2025/06/Squarespace_2400x1200-1.jpg
END:VEVENT
BEGIN:VEVENT
DTSTART;TZID=Europe/Zurich:20250830T193000
DTEND;TZID=Europe/Zurich:20250830T213000
DTSTAMP:20260422T224639
CREATED:20250718T221626Z
LAST-MODIFIED:20250718T221653Z
UID:2537-1756582200-1756589400@gasserdidier.ch
SUMMARY:Gstaad Festival | VERDI REQUIEM\, Opernhaus ZH
DESCRIPTION:
URL:https://gasserdidier.ch/event/gstaad-festival-verdi-requiem-opernhaus-zh/
END:VEVENT
END:VCALENDAR