BEGIN:VCALENDAR
VERSION:2.0
PRODID:-//Didier Gasser - ECPv6.15.20//NONSGML v1.0//EN
CALSCALE:GREGORIAN
METHOD:PUBLISH
X-WR-CALNAME:Didier Gasser
X-ORIGINAL-URL:https://gasserdidier.ch
X-WR-CALDESC:Veranstaltungen für Didier Gasser
REFRESH-INTERVAL;VALUE=DURATION:PT1H
X-Robots-Tag:noindex
X-PUBLISHED-TTL:PT1H
BEGIN:VTIMEZONE
TZID:Europe/Zurich
BEGIN:DAYLIGHT
TZOFFSETFROM:+0100
TZOFFSETTO:+0200
TZNAME:CEST
DTSTART:20240331T010000
END:DAYLIGHT
BEGIN:STANDARD
TZOFFSETFROM:+0200
TZOFFSETTO:+0100
TZNAME:CET
DTSTART:20241027T010000
END:STANDARD
BEGIN:DAYLIGHT
TZOFFSETFROM:+0100
TZOFFSETTO:+0200
TZNAME:CEST
DTSTART:20250330T010000
END:DAYLIGHT
BEGIN:STANDARD
TZOFFSETFROM:+0200
TZOFFSETTO:+0100
TZNAME:CET
DTSTART:20251026T010000
END:STANDARD
BEGIN:DAYLIGHT
TZOFFSETFROM:+0100
TZOFFSETTO:+0200
TZNAME:CEST
DTSTART:20260329T010000
END:DAYLIGHT
BEGIN:STANDARD
TZOFFSETFROM:+0200
TZOFFSETTO:+0100
TZNAME:CET
DTSTART:20261025T010000
END:STANDARD
END:VTIMEZONE
BEGIN:VEVENT
DTSTART;TZID=Europe/Zurich:20250705T190000
DTEND;TZID=Europe/Zurich:20250705T210000
DTSTAMP:20260423T001748
CREATED:20250331T083005Z
LAST-MODIFIED:20250331T083011Z
UID:2479-1751742000-1751749200@gasserdidier.ch
SUMMARY:Opernhaus Zürich | Galakonzert
DESCRIPTION:
URL:https://gasserdidier.ch/event/opernhaus-zuerich-galakonzert/
ATTACH;FMTTYPE=image/jpeg:https://gasserdidier.ch/wp-content/uploads/2025/03/Opernhaus-ZH.jpg
END:VEVENT
BEGIN:VEVENT
DTSTART;TZID=Europe/Zurich:20250710T190000
DTEND;TZID=Europe/Zurich:20250710T210000
DTSTAMP:20260423T001748
CREATED:20250331T083152Z
LAST-MODIFIED:20250331T083156Z
UID:2482-1752174000-1752181200@gasserdidier.ch
SUMMARY:Opernhaus Zürich | Galakonzert
DESCRIPTION:
URL:https://gasserdidier.ch/event/opernhaus-zuerich-galakonzert-2/
ATTACH;FMTTYPE=image/jpeg:https://gasserdidier.ch/wp-content/uploads/2025/03/Opernhaus-ZH.jpg
END:VEVENT
END:VCALENDAR