BEGIN:VCALENDAR
VERSION:2.0
PRODID:-//Didier Gasser - ECPv6.15.20//NONSGML v1.0//EN
CALSCALE:GREGORIAN
METHOD:PUBLISH
X-WR-CALNAME:Didier Gasser
X-ORIGINAL-URL:https://gasserdidier.ch
X-WR-CALDESC:Veranstaltungen für Didier Gasser
REFRESH-INTERVAL;VALUE=DURATION:PT1H
X-Robots-Tag:noindex
X-PUBLISHED-TTL:PT1H
BEGIN:VTIMEZONE
TZID:Europe/Zurich
BEGIN:DAYLIGHT
TZOFFSETFROM:+0100
TZOFFSETTO:+0200
TZNAME:CEST
DTSTART:20240331T010000
END:DAYLIGHT
BEGIN:STANDARD
TZOFFSETFROM:+0200
TZOFFSETTO:+0100
TZNAME:CET
DTSTART:20241027T010000
END:STANDARD
BEGIN:DAYLIGHT
TZOFFSETFROM:+0100
TZOFFSETTO:+0200
TZNAME:CEST
DTSTART:20250330T010000
END:DAYLIGHT
BEGIN:STANDARD
TZOFFSETFROM:+0200
TZOFFSETTO:+0100
TZNAME:CET
DTSTART:20251026T010000
END:STANDARD
BEGIN:DAYLIGHT
TZOFFSETFROM:+0100
TZOFFSETTO:+0200
TZNAME:CEST
DTSTART:20260329T010000
END:DAYLIGHT
BEGIN:STANDARD
TZOFFSETFROM:+0200
TZOFFSETTO:+0100
TZNAME:CET
DTSTART:20261025T010000
END:STANDARD
END:VTIMEZONE
BEGIN:VEVENT
DTSTART;TZID=Europe/Zurich:20250405T183000
DTEND;TZID=Europe/Zurich:20250405T200000
DTSTAMP:20260423T042942
CREATED:20241219T134937Z
LAST-MODIFIED:20241219T134943Z
UID:2444-1743877800-1743883200@gasserdidier.ch
SUMMARY:La Scintilla | Messe in c-Moll von Wolfgang A. Mozart
DESCRIPTION:Französische Kirche Bern
URL:https://gasserdidier.ch/event/la-scintilla-messe-in-c-moll-von-wolfgang-a-mozart/
ATTACH;FMTTYPE=image/png:https://gasserdidier.ch/wp-content/uploads/2024/12/Scintilla.png
END:VEVENT
BEGIN:VEVENT
DTSTART;TZID=Europe/Zurich:20250406T170000
DTEND;TZID=Europe/Zurich:20250406T190000
DTSTAMP:20260423T042942
CREATED:20241219T135146Z
LAST-MODIFIED:20241219T135153Z
UID:2447-1743958800-1743966000@gasserdidier.ch
SUMMARY:La Scintilla | Messe in c-Moll von Wolfgang A. Mozart
DESCRIPTION:Kirche Neumünster Zürich
URL:https://gasserdidier.ch/event/la-scintilla-messe-in-c-moll-von-wolfgang-a-mozart-2/
ATTACH;FMTTYPE=image/png:https://gasserdidier.ch/wp-content/uploads/2024/12/Scintilla.png
END:VEVENT
BEGIN:VEVENT
DTSTART;TZID=Europe/Zurich:20250413T140000
DTEND;TZID=Europe/Zurich:20250413T170000
DTSTAMP:20260423T042943
CREATED:20241219T135557Z
LAST-MODIFIED:20250220T090150Z
UID:2449-1744552800-1744563600@gasserdidier.ch
SUMMARY:Opernhaus Zürich | Lohengrin\, R. Wagner
DESCRIPTION:Opernhaus Zürich
URL:https://gasserdidier.ch/event/lohengrin-r-wagner/
ATTACH;FMTTYPE=image/jpeg:https://gasserdidier.ch/wp-content/uploads/2024/12/Lohengrin-2025-Opernhaus-ZH.jpg
END:VEVENT
BEGIN:VEVENT
DTSTART;TZID=Europe/Zurich:20250416T180000
DTEND;TZID=Europe/Zurich:20250416T210000
DTSTAMP:20260423T042943
CREATED:20241219T135914Z
LAST-MODIFIED:20250220T090124Z
UID:2452-1744826400-1744837200@gasserdidier.ch
SUMMARY:Opernhaus Zürich | Lohengrin\, R. Wagner
DESCRIPTION:Opernhaus Zürich
URL:https://gasserdidier.ch/event/lohengrin-r-wagner-2/
ATTACH;FMTTYPE=image/jpeg:https://gasserdidier.ch/wp-content/uploads/2024/12/Lohengrin-2025-Opernhaus-ZH.jpg
END:VEVENT
BEGIN:VEVENT
DTSTART;TZID=Europe/Zurich:20250427T140000
DTEND;TZID=Europe/Zurich:20250427T170000
DTSTAMP:20260423T042943
CREATED:20241219T140029Z
LAST-MODIFIED:20250220T090651Z
UID:2454-1745762400-1745773200@gasserdidier.ch
SUMMARY:Opernhaus Zürich | Lohengrin\, R. Wagner
DESCRIPTION:Opernhaus Zürich
URL:https://gasserdidier.ch/event/lohengrin-r-wagner-3/
ATTACH;FMTTYPE=image/jpeg:https://gasserdidier.ch/wp-content/uploads/2024/12/Lohengrin-2025-Opernhaus-ZH.jpg
END:VEVENT
END:VCALENDAR