BEGIN:VCALENDAR
VERSION:2.0
PRODID:-//Didier Gasser - ECPv6.15.20//NONSGML v1.0//EN
CALSCALE:GREGORIAN
METHOD:PUBLISH
X-WR-CALNAME:Didier Gasser
X-ORIGINAL-URL:https://gasserdidier.ch
X-WR-CALDESC:Veranstaltungen für Didier Gasser
REFRESH-INTERVAL;VALUE=DURATION:PT1H
X-Robots-Tag:noindex
X-PUBLISHED-TTL:PT1H
BEGIN:VTIMEZONE
TZID:Europe/Zurich
BEGIN:DAYLIGHT
TZOFFSETFROM:+0100
TZOFFSETTO:+0200
TZNAME:CEST
DTSTART:20230326T010000
END:DAYLIGHT
BEGIN:STANDARD
TZOFFSETFROM:+0200
TZOFFSETTO:+0100
TZNAME:CET
DTSTART:20231029T010000
END:STANDARD
BEGIN:DAYLIGHT
TZOFFSETFROM:+0100
TZOFFSETTO:+0200
TZNAME:CEST
DTSTART:20240331T010000
END:DAYLIGHT
BEGIN:STANDARD
TZOFFSETFROM:+0200
TZOFFSETTO:+0100
TZNAME:CET
DTSTART:20241027T010000
END:STANDARD
BEGIN:DAYLIGHT
TZOFFSETFROM:+0100
TZOFFSETTO:+0200
TZNAME:CEST
DTSTART:20250330T010000
END:DAYLIGHT
BEGIN:STANDARD
TZOFFSETFROM:+0200
TZOFFSETTO:+0100
TZNAME:CET
DTSTART:20251026T010000
END:STANDARD
END:VTIMEZONE
BEGIN:VEVENT
DTSTART;TZID=Europe/Zurich:20240307T200000
DTEND;TZID=Europe/Zurich:20240307T230000
DTSTAMP:20260426T052432
CREATED:20230912T125202Z
LAST-MODIFIED:20230912T131109Z
UID:2295-1709841600-1709852400@gasserdidier.ch
SUMMARY:Orchestre de Chambre de Genève | Concert de soirée 4
DESCRIPTION:Bâtiment des Forces Motrices\, Genève
URL:https://gasserdidier.ch/event/orchestre-de-chambre-de-geneve-concert-de-soiree-4/
ATTACH;FMTTYPE=image/png:https://gasserdidier.ch/wp-content/uploads/2023/09/OCG1-1.png
END:VEVENT
BEGIN:VEVENT
DTSTART;TZID=Europe/Zurich:20240326T193000
DTEND;TZID=Europe/Zurich:20240326T213000
DTSTAMP:20260426T052432
CREATED:20230912T124745Z
LAST-MODIFIED:20230912T124751Z
UID:2292-1711481400-1711488600@gasserdidier.ch
SUMMARY:Dominique A & l'Orchestre de Chambre de Genève
DESCRIPTION:Théâtre La Comédie\, Genève
URL:https://gasserdidier.ch/event/dominique-a-lorchestre-de-chambre-de-geneve/
ATTACH;FMTTYPE=image/png:https://gasserdidier.ch/wp-content/uploads/2023/09/OCG8.png
END:VEVENT
BEGIN:VEVENT
DTSTART;TZID=Europe/Zurich:20240327T193000
DTEND;TZID=Europe/Zurich:20240327T213000
DTSTAMP:20260426T052432
CREATED:20230912T125715Z
LAST-MODIFIED:20230912T125720Z
UID:2301-1711567800-1711575000@gasserdidier.ch
SUMMARY:Dominique A & l'Orchestre de Chambre de Genève
DESCRIPTION:Théâtre La Comédie\, Genève
URL:https://gasserdidier.ch/event/dominique-a-lorchestre-de-chambre-de-geneve-2/
ATTACH;FMTTYPE=image/png:https://gasserdidier.ch/wp-content/uploads/2023/09/OCG8.png
END:VEVENT
BEGIN:VEVENT
DTSTART;TZID=Europe/Zurich:20240328T193000
DTEND;TZID=Europe/Zurich:20240328T213000
DTSTAMP:20260426T052432
CREATED:20230912T125916Z
LAST-MODIFIED:20230912T125948Z
UID:2303-1711654200-1711661400@gasserdidier.ch
SUMMARY:Dominique A & l'Orchestre de Chambre de Genève
DESCRIPTION:Théâtre La Comédie\, Genève
URL:https://gasserdidier.ch/event/dominique-a-lorchestre-de-chambre-de-geneve-3/
ATTACH;FMTTYPE=image/png:https://gasserdidier.ch/wp-content/uploads/2023/09/OCG8.png
END:VEVENT
END:VCALENDAR