BEGIN:VCALENDAR
VERSION:2.0
PRODID:-//Didier Gasser - ECPv6.15.20//NONSGML v1.0//EN
CALSCALE:GREGORIAN
METHOD:PUBLISH
X-WR-CALNAME:Didier Gasser
X-ORIGINAL-URL:https://gasserdidier.ch
X-WR-CALDESC:Veranstaltungen für Didier Gasser
REFRESH-INTERVAL;VALUE=DURATION:PT1H
X-Robots-Tag:noindex
X-PUBLISHED-TTL:PT1H
BEGIN:VTIMEZONE
TZID:Europe/Zurich
BEGIN:DAYLIGHT
TZOFFSETFROM:+0100
TZOFFSETTO:+0200
TZNAME:CEST
DTSTART:20240331T010000
END:DAYLIGHT
BEGIN:STANDARD
TZOFFSETFROM:+0200
TZOFFSETTO:+0100
TZNAME:CET
DTSTART:20241027T010000
END:STANDARD
BEGIN:DAYLIGHT
TZOFFSETFROM:+0100
TZOFFSETTO:+0200
TZNAME:CEST
DTSTART:20250330T010000
END:DAYLIGHT
BEGIN:STANDARD
TZOFFSETFROM:+0200
TZOFFSETTO:+0100
TZNAME:CET
DTSTART:20251026T010000
END:STANDARD
BEGIN:DAYLIGHT
TZOFFSETFROM:+0100
TZOFFSETTO:+0200
TZNAME:CEST
DTSTART:20260329T010000
END:DAYLIGHT
BEGIN:STANDARD
TZOFFSETFROM:+0200
TZOFFSETTO:+0100
TZNAME:CET
DTSTART:20261025T010000
END:STANDARD
BEGIN:DAYLIGHT
TZOFFSETFROM:+0100
TZOFFSETTO:+0200
TZNAME:CEST
DTSTART:20270328T010000
END:DAYLIGHT
BEGIN:STANDARD
TZOFFSETFROM:+0200
TZOFFSETTO:+0100
TZNAME:CET
DTSTART:20271031T010000
END:STANDARD
END:VTIMEZONE
BEGIN:VEVENT
DTSTART;TZID=Europe/Zurich:20260406T140000
DTEND;TZID=Europe/Zurich:20260406T153000
DTSTAMP:20260420T101532
CREATED:20260315T132235Z
LAST-MODIFIED:20260315T132407Z
UID:2898-1775484000-1775489400@gasserdidier.ch
SUMMARY:Opernhaus Zürich | Verdi Requiem
DESCRIPTION:
URL:https://gasserdidier.ch/event/opernhaus-zuerich-verdi-requiem/
ATTACH;FMTTYPE=image/jpeg:https://gasserdidier.ch/wp-content/uploads/2025/07/Opernhaus-ZH-edited-2.jpg
END:VEVENT
BEGIN:VEVENT
DTSTART;TZID=Europe/Zurich:20260404T200000
DTEND;TZID=Europe/Zurich:20260404T213000
DTSTAMP:20260420T101532
CREATED:20260315T132635Z
LAST-MODIFIED:20260315T132639Z
UID:2900-1775332800-1775338200@gasserdidier.ch
SUMMARY:Osterkonzert mit Alphorn\, Trompete & Orgel
DESCRIPTION:Dömli\, Ebnat-Kappel
URL:https://gasserdidier.ch/event/osterkonzert-mit-alphorn-trompete-orgel/
ATTACH;FMTTYPE=image/jpeg:https://gasserdidier.ch/wp-content/uploads/2026/03/Lisa-Stoll-Didier-Gasser.jpg
END:VEVENT
BEGIN:VEVENT
DTSTART;TZID=Europe/Zurich:20260331T200000
DTEND;TZID=Europe/Zurich:20260331T213000
DTSTAMP:20260420T101532
CREATED:20260315T131847Z
LAST-MODIFIED:20260315T131910Z
UID:2895-1774987200-1774992600@gasserdidier.ch
SUMMARY:Elbphilharmonie Hamburg | Verdi Requiem
DESCRIPTION:
URL:https://gasserdidier.ch/event/elbphilharmonie-hamburg-verdi-requiem/
ATTACH;FMTTYPE=image/png:https://gasserdidier.ch/wp-content/uploads/2026/03/Elbphilharmonie-Hamburg-scaled.png
END:VEVENT
BEGIN:VEVENT
DTSTART;TZID=Europe/Zurich:20260329T203000
DTEND;TZID=Europe/Zurich:20260329T220000
DTSTAMP:20260420T101532
CREATED:20260315T131240Z
LAST-MODIFIED:20260315T131250Z
UID:2892-1774816200-1774821600@gasserdidier.ch
SUMMARY:Grand Théâtre de Provence | Verdi Requiem
DESCRIPTION:
URL:https://gasserdidier.ch/event/grand-theatre-de-provence-verdi-requiem/
ATTACH;FMTTYPE=image/jpeg:https://gasserdidier.ch/wp-content/uploads/2026/03/Grand-theatre-de-Provence.jpg
END:VEVENT
BEGIN:VEVENT
DTSTART;TZID=Europe/Zurich:20260326T193000
DTEND;TZID=Europe/Zurich:20260326T210000
DTSTAMP:20260420T101532
CREATED:20260315T130843Z
LAST-MODIFIED:20260315T130848Z
UID:2886-1774553400-1774558800@gasserdidier.ch
SUMMARY:Wiener Konzerthaus | Verdi Requiem
DESCRIPTION:Tournee Opernhaus Zürich
URL:https://gasserdidier.ch/event/wiener-konzerthaus-verdi-requiem/
ATTACH;FMTTYPE=image/jpeg:https://gasserdidier.ch/wp-content/uploads/2026/03/Wiener-Konzerthaus.jpg
END:VEVENT
BEGIN:VEVENT
DTSTART;TZID=Europe/Zurich:20260325T200000
DTEND;TZID=Europe/Zurich:20260325T213000
DTSTAMP:20260420T101532
CREATED:20260315T131015Z
LAST-MODIFIED:20260315T131029Z
UID:2889-1774468800-1774474200@gasserdidier.ch
SUMMARY:Isarphilharmonie München | Verdi Requiem
DESCRIPTION:
URL:https://gasserdidier.ch/event/isarphilharmonie-muenchen-verdi-requiem/
ATTACH;FMTTYPE=image/jpeg:https://gasserdidier.ch/wp-content/uploads/2026/03/Isarphilharmonie-Muenchen.jpg
END:VEVENT
BEGIN:VEVENT
DTSTART;TZID=Europe/Zurich:20260323T193000
DTEND;TZID=Europe/Zurich:20260323T210000
DTSTAMP:20260420T101532
CREATED:20260315T130437Z
LAST-MODIFIED:20260315T130447Z
UID:2883-1774294200-1774299600@gasserdidier.ch
SUMMARY:Philharmonie Luxembourg | Verdi Requiem
DESCRIPTION:Tournee Opernhaus Zürich
URL:https://gasserdidier.ch/event/philharmonie-luxembourg-verdi-requiem/
ATTACH;FMTTYPE=image/jpeg:https://gasserdidier.ch/wp-content/uploads/2026/03/Philharmonie-Luxembourg.jpg
END:VEVENT
BEGIN:VEVENT
DTSTART;TZID=Europe/Zurich:20260322T180000
DTEND;TZID=Europe/Zurich:20260322T200000
DTSTAMP:20260420T101532
CREATED:20260315T130200Z
LAST-MODIFIED:20260315T130208Z
UID:2880-1774202400-1774209600@gasserdidier.ch
SUMMARY:Philharmonie de Paris | Verdi Requiem
DESCRIPTION:Tournee Opernhaus Zürich
URL:https://gasserdidier.ch/event/philharmonie-de-paris-verdi-requiem/
ATTACH;FMTTYPE=image/jpeg:https://gasserdidier.ch/wp-content/uploads/2026/03/Philharmonie-Paris.jpg
END:VEVENT
BEGIN:VEVENT
DTSTART;TZID=Europe/Zurich:20260310T190000
DTEND;TZID=Europe/Zurich:20260310T210000
DTSTAMP:20260420T101532
CREATED:20251224T103320Z
LAST-MODIFIED:20251224T103332Z
UID:2853-1773169200-1773176400@gasserdidier.ch
SUMMARY:Cardillac | Opernhaus Zürich
DESCRIPTION:
URL:https://gasserdidier.ch/event/cardillac-opernhaus-zuerich-4/
END:VEVENT
BEGIN:VEVENT
DTSTART;TZID=Europe/Zurich:20260307T193000
DTEND;TZID=Europe/Zurich:20260307T213000
DTSTAMP:20260420T101532
CREATED:20251224T103223Z
LAST-MODIFIED:20251224T103228Z
UID:2851-1772911800-1772919000@gasserdidier.ch
SUMMARY:Messa da Requiem\, Verdi | Opernhaus Zürich
DESCRIPTION:
URL:https://gasserdidier.ch/event/messa-da-requiem-verdi-opernhaus-zuerich-6/
END:VEVENT
BEGIN:VEVENT
DTSTART;TZID=Europe/Zurich:20260305T193000
DTEND;TZID=Europe/Zurich:20260305T213000
DTSTAMP:20260420T101532
CREATED:20251224T103136Z
LAST-MODIFIED:20251224T103139Z
UID:2849-1772739000-1772746200@gasserdidier.ch
SUMMARY:Messa da Requiem\, Verdi | Opernhaus Zürich
DESCRIPTION:
URL:https://gasserdidier.ch/event/messa-da-requiem-verdi-opernhaus-zuerich-5/
END:VEVENT
BEGIN:VEVENT
DTSTART;TZID=Europe/Zurich:20260301T200000
DTEND;TZID=Europe/Zurich:20260301T220000
DTSTAMP:20260420T101532
CREATED:20251224T103032Z
LAST-MODIFIED:20251224T103036Z
UID:2847-1772395200-1772402400@gasserdidier.ch
SUMMARY:Messa da Requiem\, Verdi | Opernhaus Zürich
DESCRIPTION:
URL:https://gasserdidier.ch/event/messa-da-requiem-verdi-opernhaus-zuerich-4/
END:VEVENT
BEGIN:VEVENT
DTSTART;TZID=Europe/Zurich:20260301T140000
DTEND;TZID=Europe/Zurich:20260301T160000
DTSTAMP:20260420T101532
CREATED:20251224T102936Z
LAST-MODIFIED:20251224T102940Z
UID:2845-1772373600-1772380800@gasserdidier.ch
SUMMARY:Cardillac | Opernhaus Zürich
DESCRIPTION:
URL:https://gasserdidier.ch/event/cardillac-opernhaus-zuerich-3/
END:VEVENT
BEGIN:VEVENT
DTSTART;TZID=Europe/Zurich:20260228T190000
DTEND;TZID=Europe/Zurich:20260228T210000
DTSTAMP:20260420T101532
CREATED:20251224T102847Z
LAST-MODIFIED:20251224T102851Z
UID:2843-1772305200-1772312400@gasserdidier.ch
SUMMARY:Messa da Requiem\, Verdi | Opernhaus Zürich
DESCRIPTION:
URL:https://gasserdidier.ch/event/messa-da-requiem-verdi-opernhaus-zuerich-3/
END:VEVENT
BEGIN:VEVENT
DTSTART;TZID=Europe/Zurich:20260222T140000
DTEND;TZID=Europe/Zurich:20260222T160000
DTSTAMP:20260420T101532
CREATED:20251224T102641Z
LAST-MODIFIED:20251224T102645Z
UID:2841-1771768800-1771776000@gasserdidier.ch
SUMMARY:Messa da Requiem\, Verdi | Opernhaus Zürich
DESCRIPTION:
URL:https://gasserdidier.ch/event/messa-da-requiem-verdi-opernhaus-zuerich-2/
END:VEVENT
BEGIN:VEVENT
DTSTART;TZID=Europe/Zurich:20260221T190000
DTEND;TZID=Europe/Zurich:20260221T210000
DTSTAMP:20260420T101532
CREATED:20251224T102535Z
LAST-MODIFIED:20251224T102539Z
UID:2839-1771700400-1771707600@gasserdidier.ch
SUMMARY:Cardillac | Opernhaus Zürich
DESCRIPTION:
URL:https://gasserdidier.ch/event/cardillac-opernhaus-zuerich-2/
END:VEVENT
BEGIN:VEVENT
DTSTART;TZID=Europe/Zurich:20260220T190000
DTEND;TZID=Europe/Zurich:20260220T220000
DTSTAMP:20260420T101532
CREATED:20251224T102424Z
LAST-MODIFIED:20251224T102427Z
UID:2837-1771614000-1771624800@gasserdidier.ch
SUMMARY:Messa da Requiem\, Verdi | Opernhaus Zürich
DESCRIPTION:
URL:https://gasserdidier.ch/event/messa-da-requiem-verdi-opernhaus-zuerich/
END:VEVENT
BEGIN:VEVENT
DTSTART;TZID=Europe/Zurich:20260218T190000
DTEND;TZID=Europe/Zurich:20260218T210000
DTSTAMP:20260420T101532
CREATED:20251224T102318Z
LAST-MODIFIED:20251224T102321Z
UID:2835-1771441200-1771448400@gasserdidier.ch
SUMMARY:Cardillac | Opernhaus Zürich
DESCRIPTION:
URL:https://gasserdidier.ch/event/cardillac-opernhaus-zuerich/
END:VEVENT
BEGIN:VEVENT
DTSTART;TZID=Europe/Zurich:20260129T200000
DTEND;TZID=Europe/Zurich:20260129T230000
DTSTAMP:20260420T101532
CREATED:20260115T140023Z
LAST-MODIFIED:20260115T140037Z
UID:2856-1769716800-1769727600@gasserdidier.ch
SUMMARY:Giorgi Gigashvili | Orchestra della Svizzera italiana\, Lugano
DESCRIPTION:Auditorio Stelio Molo RSI\, Lugano
URL:https://gasserdidier.ch/event/giorgi-gigashvili-orchestra-della-svizzera-italiana-lugano/
ATTACH;FMTTYPE=image/png:https://gasserdidier.ch/wp-content/uploads/2026/01/OSI-janvier-26.png
END:VEVENT
BEGIN:VEVENT
DTSTART;TZID=Europe/Zurich:20260123T193000
DTEND;TZID=Europe/Zurich:20260123T220000
DTSTAMP:20260420T101532
CREATED:20260115T140338Z
LAST-MODIFIED:20260115T140352Z
UID:2859-1769196600-1769205600@gasserdidier.ch
SUMMARY:Opernspiele Munot | Kirche Oberstrass ZH
DESCRIPTION:
URL:https://gasserdidier.ch/event/opernspiele-munot-kirche-oberstrass-zh/
ATTACH;FMTTYPE=image/png:https://gasserdidier.ch/wp-content/uploads/2026/01/BALLMUSIK-23-Jan-2026.png
END:VEVENT
BEGIN:VEVENT
DTSTART;TZID=Europe/Zurich:20260117T190000
DTEND;TZID=Europe/Zurich:20260117T200000
DTSTAMP:20260420T101532
CREATED:20251224T102000Z
LAST-MODIFIED:20251224T102004Z
UID:2833-1768676400-1768680000@gasserdidier.ch
SUMMARY:Neujahrskonzert | Kirche St. Antoni
DESCRIPTION:
URL:https://gasserdidier.ch/event/neujahrskonzert-kirche-st-antoni/
END:VEVENT
BEGIN:VEVENT
DTSTART;TZID=Europe/Zurich:20260103T170000
DTEND;TZID=Europe/Zurich:20260103T190000
DTSTAMP:20260420T101532
CREATED:20250718T223940Z
LAST-MODIFIED:20251224T101840Z
UID:2578-1767459600-1767466800@gasserdidier.ch
SUMMARY:Neujahrskonzert | Kirche Unterstrass Zürich
DESCRIPTION:
URL:https://gasserdidier.ch/event/neujahrskonzert-kirche-unterstrass/
END:VEVENT
BEGIN:VEVENT
DTSTART;TZID=Europe/Zurich:20251207T153000
DTEND;TZID=Europe/Zurich:20251207T170000
DTSTAMP:20260420T101532
CREATED:20250718T223659Z
LAST-MODIFIED:20250718T223703Z
UID:2576-1765121400-1765126800@gasserdidier.ch
SUMMARY:Opernhaus Zürich | Musikgeschichten «Ein Sommernachtstraum
DESCRIPTION:
URL:https://gasserdidier.ch/event/opernhaus-zuerich-musikgeschichten-ein-sommernachtstraum-8/
END:VEVENT
BEGIN:VEVENT
DTSTART;TZID=Europe/Zurich:20251206T153000
DTEND;TZID=Europe/Zurich:20251206T170000
DTSTAMP:20260420T101532
CREATED:20250718T223625Z
LAST-MODIFIED:20250718T223630Z
UID:2574-1765035000-1765040400@gasserdidier.ch
SUMMARY:Opernhaus Zürich | Musikgeschichten «Ein Sommernachtstraum
DESCRIPTION:
URL:https://gasserdidier.ch/event/opernhaus-zuerich-musikgeschichten-ein-sommernachtstraum-7/
END:VEVENT
BEGIN:VEVENT
DTSTART;TZID=Europe/Zurich:20251205T101500
DTEND;TZID=Europe/Zurich:20251205T114500
DTSTAMP:20260420T101532
CREATED:20250718T223549Z
LAST-MODIFIED:20250718T223552Z
UID:2572-1764929700-1764935100@gasserdidier.ch
SUMMARY:Opernhaus Zürich | Musikgeschichten «Ein Sommernachtstraum
DESCRIPTION:
URL:https://gasserdidier.ch/event/opernhaus-zuerich-musikgeschichten-ein-sommernachtstraum-6/
END:VEVENT
BEGIN:VEVENT
DTSTART;TZID=Europe/Zurich:20251204T101500
DTEND;TZID=Europe/Zurich:20251204T114500
DTSTAMP:20260420T101532
CREATED:20250718T223500Z
LAST-MODIFIED:20250718T223505Z
UID:2570-1764843300-1764848700@gasserdidier.ch
SUMMARY:Opernhaus Zürich | Musikgeschichten «Ein Sommernachtstraum
DESCRIPTION:
URL:https://gasserdidier.ch/event/opernhaus-zuerich-musikgeschichten-ein-sommernachtstraum-5/
END:VEVENT
BEGIN:VEVENT
DTSTART;TZID=Europe/Zurich:20251202T101500
DTEND;TZID=Europe/Zurich:20251202T114500
DTSTAMP:20260420T101532
CREATED:20250718T223406Z
LAST-MODIFIED:20250718T223410Z
UID:2568-1764670500-1764675900@gasserdidier.ch
SUMMARY:Opernhaus Zürich | Musikgeschichten "Ein Sommernachtstraum"
DESCRIPTION:
URL:https://gasserdidier.ch/event/opernhaus-zuerich-musikgeschichten-ein-sommernachtstraum-4/
END:VEVENT
BEGIN:VEVENT
DTSTART;TZID=Europe/Zurich:20251201T101500
DTEND;TZID=Europe/Zurich:20251201T114500
DTSTAMP:20260420T101532
CREATED:20250718T223314Z
LAST-MODIFIED:20250718T223317Z
UID:2566-1764584100-1764589500@gasserdidier.ch
SUMMARY:Opernhaus Zürich | Musikgeschichten "Ein Sommernachtstraum"
DESCRIPTION:
URL:https://gasserdidier.ch/event/opernhaus-zuerich-musikgeschichten-ein-sommernachtstraum-3/
END:VEVENT
BEGIN:VEVENT
DTSTART;TZID=Europe/Zurich:20251130T193000
DTEND;TZID=Europe/Zurich:20251130T220000
DTSTAMP:20260420T101532
CREATED:20250718T223114Z
LAST-MODIFIED:20250718T223120Z
UID:2564-1764531000-1764540000@gasserdidier.ch
SUMMARY:Opernhaus Zürich | MACBETH
DESCRIPTION:
URL:https://gasserdidier.ch/event/opernhaus-zuerich-macbeth-5/
END:VEVENT
BEGIN:VEVENT
DTSTART;TZID=Europe/Zurich:20251130T140000
DTEND;TZID=Europe/Zurich:20251130T153000
DTSTAMP:20260420T101532
CREATED:20250718T223010Z
LAST-MODIFIED:20250718T223014Z
UID:2562-1764511200-1764516600@gasserdidier.ch
SUMMARY:Opernhaus Zürich | Musikgeschichten "Ein Sommernachtstraum"
DESCRIPTION:
URL:https://gasserdidier.ch/event/opernhaus-zuerich-musikgeschichten-ein-sommernachtstraum-2/
END:VEVENT
END:VCALENDAR