BEGIN:VCALENDAR
VERSION:2.0
PRODID:-//Didier Gasser - ECPv6.15.20//NONSGML v1.0//EN
CALSCALE:GREGORIAN
METHOD:PUBLISH
X-ORIGINAL-URL:https://gasserdidier.ch
X-WR-CALDESC:Veranstaltungen für Didier Gasser
REFRESH-INTERVAL;VALUE=DURATION:PT1H
X-Robots-Tag:noindex
X-PUBLISHED-TTL:PT1H
BEGIN:VTIMEZONE
TZID:Europe/Zurich
BEGIN:DAYLIGHT
TZOFFSETFROM:+0100
TZOFFSETTO:+0200
TZNAME:CEST
DTSTART:20240331T010000
END:DAYLIGHT
BEGIN:STANDARD
TZOFFSETFROM:+0200
TZOFFSETTO:+0100
TZNAME:CET
DTSTART:20241027T010000
END:STANDARD
BEGIN:DAYLIGHT
TZOFFSETFROM:+0100
TZOFFSETTO:+0200
TZNAME:CEST
DTSTART:20250330T010000
END:DAYLIGHT
BEGIN:STANDARD
TZOFFSETFROM:+0200
TZOFFSETTO:+0100
TZNAME:CET
DTSTART:20251026T010000
END:STANDARD
BEGIN:DAYLIGHT
TZOFFSETFROM:+0100
TZOFFSETTO:+0200
TZNAME:CEST
DTSTART:20260329T010000
END:DAYLIGHT
BEGIN:STANDARD
TZOFFSETFROM:+0200
TZOFFSETTO:+0100
TZNAME:CET
DTSTART:20261025T010000
END:STANDARD
END:VTIMEZONE
BEGIN:VEVENT
DTSTART;TZID=Europe/Zurich:20251129T153000
DTEND;TZID=Europe/Zurich:20251129T170000
DTSTAMP:20260422T194809
CREATED:20250718T222813Z
LAST-MODIFIED:20250718T222818Z
UID:2558-1764430200-1764435600@gasserdidier.ch
SUMMARY:Opernhaus Zürich | Musikgeschichten "Ein Sommernachtstraum"
DESCRIPTION:
URL:https://gasserdidier.ch/event/opernhaus-zuerich-musikgeschichten-ein-sommernachtstraum/
END:VEVENT
BEGIN:VEVENT
DTSTART;TZID=Europe/Zurich:20251129T190000
DTEND;TZID=Europe/Zurich:20251129T220000
DTSTAMP:20260422T194809
CREATED:20250718T222902Z
LAST-MODIFIED:20250718T222905Z
UID:2560-1764442800-1764453600@gasserdidier.ch
SUMMARY:Opernhaus Zürich |  LA FORZA DEL DESTINO
DESCRIPTION:
URL:https://gasserdidier.ch/event/opernhaus-zuerich-la-forza-del-destino-6/
END:VEVENT
END:VCALENDAR